BEGIN:VCALENDAR
VERSION:2.0
PRODID:-//Contratero//ES
CALSCALE:GREGORIAN
METHOD:PUBLISH
BEGIN:VEVENT
UID:CM 10/21@contratero.es
DTSTAMP:20260425T124803Z
DTSTART:20210324T235959
DTEND:20210325T005959
SUMMARY:Cierre: Servicios informáticos de hosting\, mantenimiento y
DESCRIPTION:Servicios informáticos de hosting\, mantenimiento y soporte técnico de la aplicación informática que aloja las audioguías de los equipamientos culturales gestionados por la Sociedad Pública de Gestión ...\\n\\nOrganismo: Sociedad Pública de Gestión y Promoción Turística y Cultural del Principado de Asturias S.A.U.\\n\\nVer en Contratero: https://contratero.es/contracts/CM 10/21
URL:https://contratero.es/contracts/CM 10/21
STATUS:CONFIRMED
BEGIN:VALARM
TRIGGER:-P1D
ACTION:DISPLAY
DESCRIPTION:Recordatorio: Servicios informáticos de host
END:VALARM
END:VEVENT
END:VCALENDAR